BEGIN:VCALENDAR
VERSION:2.0
PRODID:-//eventon.com NONSGML v1.0//EN
CALSCALE:GREGORIAN
METHOD:PUBLISH
BEGIN:VEVENT
UID:69e88fd681270
DTSTAMP:20260422T090734Z
DTSTART:20241130T090000Z
DTEND:20241130T170000Z
LOCATION:Villa Giulia\,  via Delma 26\,  Rodengo Saiano (BS)
SUMMARY:Bazar di Natale
DESCRIPTION:Sabato 30 novembre 2024 | ore 10.00-18.00 a cura di genitori ed
  insegnanti del Progetto Il Bazar di Natale di una scuola Waldorf non è un
  semplice mercatino per comprare i regali di Natale. Sono bambini e ragazzi
  che emozionati accolgono nella loro scuola chiunque abbia la voglia di sco
 prirla[..]\nhttps://www.waldorfbrescia.it/evento/bazar-di-natale-2023/
URL:https://www.waldorfbrescia.it/evento/bazar-di-natale-2023/
END:VEVENT
END:VCALENDAR